BEGIN:VCALENDAR
VERSION:2.0
PRODID:-//Iglesia Cristiana Vida Nueva - ECPv6.15.20//NONSGML v1.0//EN
CALSCALE:GREGORIAN
METHOD:PUBLISH
X-WR-CALNAME:Iglesia Cristiana Vida Nueva
X-ORIGINAL-URL:https://vidanuevaflorence.org
X-WR-CALDESC:Events for Iglesia Cristiana Vida Nueva
REFRESH-INTERVAL;VALUE=DURATION:PT1H
X-Robots-Tag:noindex
X-PUBLISHED-TTL:PT1H
BEGIN:VTIMEZONE
TZID:UTC
BEGIN:STANDARD
TZOFFSETFROM:+0000
TZOFFSETTO:+0000
TZNAME:UTC
DTSTART:20240101T000000
END:STANDARD
END:VTIMEZONE
BEGIN:VEVENT
DTSTART;VALUE=DATE:20250130
DTEND;VALUE=DATE:20250131
DTSTAMP:20260424T160009
CREATED:20250201T143515Z
LAST-MODIFIED:20250201T143515Z
UID:501-1738195200-1738281599@vidanuevaflorence.org
SUMMARY:CAFE: Operación Construcción (Edificando familias funcionales)
DESCRIPTION:CAFE significa Células de Apoyo a las Familias Extendidas. Por 6 semanas\, nos reunimos en 3 hogares diferentes para tener diálogos que edifican nuestras vidas personales y familiares. Si desea conocer más sobre este programa\, contáctanos y le daremos más información sobre los hogares. \nFechas de encuentros:  \n\nJueves\, 30 de enero\nJueves\, 6 de febrero\nJueves\, 13 de febrero\nJueves\, 20 de febrero\nJueves\, 27 de febrero\nJueves\, 6 de marzo
URL:https://vidanuevaflorence.org/eventos/cafe-operacion-construccion-edificando-familias-funcionales/
LOCATION:SC
ATTACH;FMTTYPE=image/png:https://vidanuevaflorence.org/wp-content/uploads/2025/02/Jueves-30-de-enero-del-2025-1.png
END:VEVENT
BEGIN:VEVENT
DTSTART;VALUE=DATE:20250206
DTEND;VALUE=DATE:20250207
DTSTAMP:20260424T160009
CREATED:20250201T143852Z
LAST-MODIFIED:20250201T143852Z
UID:503-1738800000-1738886399@vidanuevaflorence.org
SUMMARY:CAFE: Operación Construcción (Edificando familias funcionales)
DESCRIPTION:CAFE significa Células de Apoyo a las Familias Extendidas. Por 6 semanas\, nos reunimos en 3 hogares diferentes para tener diálogos que edifican nuestras vidas personales y familiares. Si desea conocer más sobre este programa\, contáctanos y le daremos más información sobre los hogares. \nFechas de encuentros: \n\nJueves\, 30 de enero\nJueves\, 6 de febrero\nJueves\, 13 de febrero\nJueves\, 20 de febrero\nJueves\, 27 de febrero\nJueves\, 6 de marzo
URL:https://vidanuevaflorence.org/eventos/cafe-operacion-construccion-edificando-familias-funcionales-2/
LOCATION:SC
ATTACH;FMTTYPE=image/png:https://vidanuevaflorence.org/wp-content/uploads/2025/02/Jueves-30-de-enero-del-2025-1.png
END:VEVENT
BEGIN:VEVENT
DTSTART;VALUE=DATE:20250213
DTEND;VALUE=DATE:20250214
DTSTAMP:20260424T160009
CREATED:20250201T144519Z
LAST-MODIFIED:20250201T144519Z
UID:505-1739404800-1739491199@vidanuevaflorence.org
SUMMARY:CAFE: Operación Construcción (Edificando familias funcionales)
DESCRIPTION:CAFE significa Células de Apoyo a las Familias Extendidas. Por 6 semanas\, nos reunimos en 3 hogares diferentes para tener diálogos que edifican nuestras vidas personales y familiares. Si desea conocer más sobre este programa\, contáctanos y le daremos más información sobre los hogares. \nFechas de encuentros: \n\nJueves\, 30 de enero\nJueves\, 6 de febrero\nJueves\, 13 de febrero\nJueves\, 20 de febrero\nJueves\, 27 de febrero\nJueves\, 6 de marzo
URL:https://vidanuevaflorence.org/eventos/cafe-operacion-construccion-edificando-familias-funcionales-3/
LOCATION:SC
ATTACH;FMTTYPE=image/png:https://vidanuevaflorence.org/wp-content/uploads/2025/02/Jueves-30-de-enero-del-2025-1.png
END:VEVENT
BEGIN:VEVENT
DTSTART;VALUE=DATE:20250220
DTEND;VALUE=DATE:20250221
DTSTAMP:20260424T160009
CREATED:20250201T144645Z
LAST-MODIFIED:20250201T144645Z
UID:507-1740009600-1740095999@vidanuevaflorence.org
SUMMARY:CAFE: Operación Construcción (Edificando familias funcionales)
DESCRIPTION:CAFE significa Células de Apoyo a las Familias Extendidas. Por 6 semanas\, nos reunimos en 3 hogares diferentes para tener diálogos que edifican nuestras vidas personales y familiares. Si desea conocer más sobre este programa\, contáctanos y le daremos más información sobre los hogares. \nFechas de encuentros: \n\nJueves\, 30 de enero\nJueves\, 6 de febrero\nJueves\, 13 de febrero\nJueves\, 20 de febrero\nJueves\, 27 de febrero\nJueves\, 6 de marzo
URL:https://vidanuevaflorence.org/eventos/cafe-operacion-construccion-edificando-familias-funcionales-4/
LOCATION:SC
ATTACH;FMTTYPE=image/png:https://vidanuevaflorence.org/wp-content/uploads/2025/02/Jueves-30-de-enero-del-2025-1.png
END:VEVENT
BEGIN:VEVENT
DTSTART;VALUE=DATE:20250227
DTEND;VALUE=DATE:20250228
DTSTAMP:20260424T160009
CREATED:20250201T144800Z
LAST-MODIFIED:20250201T144800Z
UID:509-1740614400-1740700799@vidanuevaflorence.org
SUMMARY:CAFE: Operación Construcción (Edificando familias funcionales)
DESCRIPTION:CAFE significa Células de Apoyo a las Familias Extendidas. Por 6 semanas\, nos reunimos en 3 hogares diferentes para tener diálogos que edifican nuestras vidas personales y familiares. Si desea conocer más sobre este programa\, contáctanos y le daremos más información sobre los hogares. \nFechas de encuentros: \n\nJueves\, 30 de enero\nJueves\, 6 de febrero\nJueves\, 13 de febrero\nJueves\, 20 de febrero\nJueves\, 27 de febrero\nJueves\, 6 de marzo
URL:https://vidanuevaflorence.org/eventos/cafe-operacion-construccion-edificando-familias-funcionales-5/
LOCATION:SC
ATTACH;FMTTYPE=image/png:https://vidanuevaflorence.org/wp-content/uploads/2025/02/Jueves-30-de-enero-del-2025-1.png
END:VEVENT
BEGIN:VEVENT
DTSTART;VALUE=DATE:20250306
DTEND;VALUE=DATE:20250307
DTSTAMP:20260424T160009
CREATED:20250201T145009Z
LAST-MODIFIED:20250201T145009Z
UID:511-1741219200-1741305599@vidanuevaflorence.org
SUMMARY:CAFE: Operación Construcción (Edificando familias funcionales)
DESCRIPTION:CAFE significa Células de Apoyo a las Familias Extendidas. Por 6 semanas\, nos reunimos en 3 hogares diferentes para tener diálogos que edifican nuestras vidas personales y familiares. Si desea conocer más sobre este programa\, contáctanos y le daremos más información sobre los hogares. \nFechas de encuentros: \n\nJueves\, 30 de enero\nJueves\, 6 de febrero\nJueves\, 13 de febrero\nJueves\, 20 de febrero\nJueves\, 27 de febrero\nJueves\, 6 de marzo
URL:https://vidanuevaflorence.org/eventos/cafe-operacion-construccion-edificando-familias-funcionales-6/
LOCATION:SC
ATTACH;FMTTYPE=image/png:https://vidanuevaflorence.org/wp-content/uploads/2025/02/Jueves-30-de-enero-del-2025-1.png
END:VEVENT
BEGIN:VEVENT
DTSTART;TZID=UTC:20250609T173000
DTEND;TZID=UTC:20250612T200000
DTSTAMP:20260424T160009
CREATED:20250504T145725Z
LAST-MODIFIED:20250504T145725Z
UID:563-1749490200-1749758400@vidanuevaflorence.org
SUMMARY:¡Exaltado! EBV 2025
DESCRIPTION:La Iglesia Vida Nueva te invita a nuestra Escuela Bíblica de Verano “¡Exaltado!”. La EBV alentará a los niños a mirar de cerca los detalles del asombroso mundo de Dios y a exaltar\, o proclamar\, la grandeza de Dios. Dios nos hizo\, se preocupa por nosotros\, nos ama\, nos perdona y es fiel para mantener todas sus promesas. ¡Podemos alabar a Dios juntos! ¡Fuimos hechos para exaltar a Dios!\n\nRegistre a su niño utilizando este enlace: https://docs.google.com/forms/d/e/1FAIpQLSdmyGFa58GHwB2Yryufgx2leVEDpaiyGDT31Svs2ILO6rdIPw/viewform?fbclid=IwY2xjawKEXWlleHRuA2FlbQIxMABicmlkETFRZ0xwWlh4OFdIak5JSDBPAR6kX4Kb102RfVenr77XNIQj6RLv5rBiR8ARnGP9gVlbhnGjUXtkwHULdFzjiw_aem_cpYO-tdeJzUy3tK-_yf97w
URL:https://vidanuevaflorence.org/eventos/exaltado-ebv-2025/
LOCATION:Iglesia Vida Nueva\, 1621 South Irby Street\, Florence\, SC\, 29505\, United States
ATTACH;FMTTYPE=image/png:https://vidanuevaflorence.org/wp-content/uploads/2025/05/Promo-VBS.png
END:VEVENT
BEGIN:VEVENT
DTSTART;TZID=UTC:20250804T060000
DTEND;TZID=UTC:20250822T070000
DTSTAMP:20260424T160009
CREATED:20250802T001745Z
LAST-MODIFIED:20250802T001745Z
UID:590-1754287200-1755846000@vidanuevaflorence.org
SUMMARY:21 Días de Ayuno & Oración
DESCRIPTION:¡Comienza con nosotros 21 DÍAS DE AYUNO Y ORACIÓN! \nIglesia Vida Nueva se une a tres congregaciones americanas para buscar juntos el rostro de Dios y clamar por nuestra ciudad\, nuestras familias y nuestras iglesias.\n\n\n Del lunes 4 al viernes 22 de agosto\n Cada mañana a las 6:00 AM\n\n\n Nos uniremos con:\n• Strong Tower\n• Newspring\n• Trinity EPC
URL:https://vidanuevaflorence.org/eventos/21-dias-de-ayuno-oracion/
LOCATION:SC
ATTACH;FMTTYPE=image/jpeg:https://vidanuevaflorence.org/wp-content/uploads/2025/08/526764052_753390257448448_7318739316904676477_n.jpg
END:VEVENT
BEGIN:VEVENT
DTSTART;TZID=UTC:20251127T110000
DTEND;TZID=UTC:20251127T130000
DTSTAMP:20260424T160009
CREATED:20251103T162039Z
LAST-MODIFIED:20251103T162039Z
UID:646-1764241200-1764248400@vidanuevaflorence.org
SUMMARY:One Table Florence - Día de Acción de Gracias
DESCRIPTION:One Table Florence \nEn este próximo día de Acción de Gracias estaremos sirviendo comida\, conversando y compartiendo el amor de Cristo en la comunidad de Florence. ¡Separa la fecha ya y únete a nosotros! \nJueves\, 27 de noviembre de 2025 de 11 am a 1 pm en Timrod Park (Florence\, SC).
URL:https://vidanuevaflorence.org/eventos/one-table-florence-dia-de-accion-de-gracias/
LOCATION:Timrod Park\, 400 Timrod Park\, Florence\, 29501\, United States
ATTACH;FMTTYPE=image/jpeg:https://vidanuevaflorence.org/wp-content/uploads/2025/11/552587050_122307323342067894_4395914170790701887_n.jpg
END:VEVENT
BEGIN:VEVENT
DTSTART;TZID=UTC:20251205T190000
DTEND;TZID=UTC:20251205T210000
DTSTAMP:20260424T160009
CREATED:20251204T100057Z
LAST-MODIFIED:20251204T153429Z
UID:656-1764961200-1764968400@vidanuevaflorence.org
SUMMARY:Jóvenes Vida - Fiesta de Navidad
DESCRIPTION:¡No olvide traer su regalo! Por favor\, que nos sea más de $10.
URL:https://vidanuevaflorence.org/eventos/jovenes-vida-fiesta-de-navidad/
LOCATION:Iglesia Vida Nueva\, 1621 South Irby Street\, Florence\, SC\, 29505\, United States
ATTACH;FMTTYPE=image/jpeg:https://vidanuevaflorence.org/wp-content/uploads/2025/12/Jovenes-vida.jpg
END:VEVENT
BEGIN:VEVENT
DTSTART;TZID=UTC:20251212T190000
DTEND;TZID=UTC:20251212T210000
DTSTAMP:20260424T160009
CREATED:20251204T100043Z
LAST-MODIFIED:20251204T153123Z
UID:658-1765566000-1765573200@vidanuevaflorence.org
SUMMARY:Hijas del Rey - Fiesta del Rey
DESCRIPTION:
URL:https://vidanuevaflorence.org/eventos/hijas-del-rey-fiesta-del-rey/
LOCATION:Iglesia Vida Nueva\, 1621 South Irby Street\, Florence\, SC\, 29505\, United States
ATTACH;FMTTYPE=image/jpeg:https://vidanuevaflorence.org/wp-content/uploads/2025/12/Hijas-del-rey.jpg
END:VEVENT
BEGIN:VEVENT
DTSTART;TZID=UTC:20251214T110000
DTEND;TZID=UTC:20251214T160000
DTSTAMP:20260424T160009
CREATED:20251204T151929Z
LAST-MODIFIED:20251204T153057Z
UID:660-1765710000-1765728000@vidanuevaflorence.org
SUMMARY:Servicio de Adoración & Fiesta de Navidad
DESCRIPTION:El domingo 14 de diciembre de 2025 tendremos nuestro servicio a las 11 AM. Acompáñanos adorar al Señor y luego celebrar juntos la fiesta de Navidad. \nImportante: La dirección es 2605 Willow Creek Road Effingham\, SC 29541
URL:https://vidanuevaflorence.org/eventos/servicio-de-adoracion-fiesta-de-navidad/
LOCATION:SC
ATTACH;FMTTYPE=image/jpeg:https://vidanuevaflorence.org/wp-content/uploads/2025/12/servicio-de-navidad.jpg
END:VEVENT
BEGIN:VEVENT
DTSTART;TZID=UTC:20260109T190000
DTEND;TZID=UTC:20260109T210000
DTSTAMP:20260424T160009
CREATED:20260103T151535Z
LAST-MODIFIED:20260103T151535Z
UID:672-1767985200-1767992400@vidanuevaflorence.org
SUMMARY:Jóvenes Vida - Recharge Night
DESCRIPTION:
URL:https://vidanuevaflorence.org/eventos/jovenes-vida-recharge-night/
LOCATION:Iglesia Vida Nueva\, 1621 South Irby Street\, Florence\, SC\, 29505\, United States
ATTACH;FMTTYPE=image/jpeg:https://vidanuevaflorence.org/wp-content/uploads/2026/01/Jovenes-vida.jpg
END:VEVENT
BEGIN:VEVENT
DTSTART;VALUE=DATE:20260112
DTEND;VALUE=DATE:20260202
DTSTAMP:20260424T160009
CREATED:20260103T151357Z
LAST-MODIFIED:20260103T151357Z
UID:670-1768176000-1769990399@vidanuevaflorence.org
SUMMARY:21 Días de Ayuno & Oración
DESCRIPTION:Como de costumbre\, a principio de año siempre deseamos presentarnos y consagrarnos ante el Señor. Estaremos en oración y ayunando desde el 12 de enero hasta el 1ro de febrero. Cada día habrá un motivo de oración y cada uno puede escoger el día que desee. \nAdemás\, el templo estará abierto una hora para los que deseen ir y orar en comunidad. \nLunes a viernes\, enero 12 al 16 – el templo se abrirá de 6 am a 7 am \nLunes a viernes\, enero 19 al 23 – el templo se abrirá de 6 pm a 7 pm \nLunes a viernes\, enero 26 al 30 – el templo se abrirá de 6 am a 7 pm
URL:https://vidanuevaflorence.org/eventos/21-dias-de-ayuno-oracion-2/
LOCATION:Iglesia Vida Nueva\, 1621 South Irby Street\, Florence\, SC\, 29505\, United States
ATTACH;FMTTYPE=image/jpeg:https://vidanuevaflorence.org/wp-content/uploads/2026/01/21-dias-ayuno-y-oracion.jpg
END:VEVENT
BEGIN:VEVENT
DTSTART;TZID=UTC:20260123T190000
DTEND;TZID=UTC:20260123T210000
DTSTAMP:20260424T160009
CREATED:20260103T151751Z
LAST-MODIFIED:20260103T151751Z
UID:674-1769194800-1769202000@vidanuevaflorence.org
SUMMARY:Hombres Vida
DESCRIPTION:
URL:https://vidanuevaflorence.org/eventos/hombres-vida/
LOCATION:Iglesia Vida Nueva\, 1621 South Irby Street\, Florence\, SC\, 29505\, United States
ATTACH;FMTTYPE=image/jpeg:https://vidanuevaflorence.org/wp-content/uploads/2026/01/Promo-grupo-de-hombres.jpg
END:VEVENT
BEGIN:VEVENT
DTSTART;TZID=UTC:20260130T200000
DTEND;TZID=UTC:20260130T200000
DTSTAMP:20260424T160009
CREATED:20260103T160141Z
LAST-MODIFIED:20260103T161838Z
UID:678-1769803200-1769803200@vidanuevaflorence.org
SUMMARY:Vigilia
DESCRIPTION:Para el último fin de semana de los 21 días de ayuno y oración\, tendremos una vigilia. La vigilia será de 8 pm a 12 am en nuestro templo.
URL:https://vidanuevaflorence.org/eventos/vigilia/
LOCATION:Iglesia Vida Nueva\, 1621 South Irby Street\, Florence\, SC\, 29505\, United States
ATTACH;FMTTYPE=image/jpeg:https://vidanuevaflorence.org/wp-content/uploads/2026/01/consa.jpg
END:VEVENT
BEGIN:VEVENT
DTSTART;TZID=UTC:20260131T093000
DTEND;TZID=UTC:20260131T233000
DTSTAMP:20260424T160009
CREATED:20260103T160314Z
LAST-MODIFIED:20260103T161806Z
UID:680-1769851800-1769902200@vidanuevaflorence.org
SUMMARY:Retiro de Líderes
DESCRIPTION:
URL:https://vidanuevaflorence.org/eventos/retiro-de-lideres/
LOCATION:Iglesia Vida Nueva\, 1621 South Irby Street\, Florence\, SC\, 29505\, United States
ATTACH;FMTTYPE=image/jpeg:https://vidanuevaflorence.org/wp-content/uploads/2026/01/consa.jpg
END:VEVENT
BEGIN:VEVENT
DTSTART;TZID=UTC:20260221T180000
DTEND;TZID=UTC:20260221T200000
DTSTAMP:20260424T160009
CREATED:20260208T163151Z
LAST-MODIFIED:20260208T163151Z
UID:715-1771696800-1771704000@vidanuevaflorence.org
SUMMARY:Matrimonios Vida
DESCRIPTION:¡Matrimonios Vida! el Sábado\, 21 de febrero a las 6 PM tendremos nuestra actividad con cena romántica. Para las parejas que necesiten cuido\, no se preocupen! Habrá cuido de niños disponible.
URL:https://vidanuevaflorence.org/eventos/matrimonios-vida/
LOCATION:Iglesia Vida Nueva\, 1621 South Irby Street\, Florence\, SC\, 29505\, United States
ATTACH;FMTTYPE=image/png:https://vidanuevaflorence.org/wp-content/uploads/2026/02/Matrimonios-Vida.png
END:VEVENT
BEGIN:VEVENT
DTSTART;TZID=UTC:20260403T190000
DTEND;TZID=UTC:20260403T210000
DTSTAMP:20260424T160009
CREATED:20260330T143655Z
LAST-MODIFIED:20260330T143655Z
UID:724-1775242800-1775250000@vidanuevaflorence.org
SUMMARY:Viernes Santo
DESCRIPTION:El viernes 3 de abril a las 7 PM tendremos el servicio de Santa Cena.
URL:https://vidanuevaflorence.org/eventos/viernes-santo-2/
LOCATION:Iglesia Vida Nueva\, 1621 South Irby Street\, Florence\, SC\, 29505\, United States
ATTACH;FMTTYPE=image/jpeg:https://vidanuevaflorence.org/wp-content/uploads/2026/03/Viernes-Santo.jpg
END:VEVENT
BEGIN:VEVENT
DTSTART;TZID=UTC:20260404T090000
DTEND;TZID=UTC:20260404T110000
DTSTAMP:20260424T160009
CREATED:20260330T143912Z
LAST-MODIFIED:20260330T143912Z
UID:727-1775293200-1775300400@vidanuevaflorence.org
SUMMARY:Sábado de Gloria
DESCRIPTION:El sabado 4 de abril a las 9 AM tendremos el retiro congregacional. ¡Ven e invita a un amigo!
URL:https://vidanuevaflorence.org/eventos/sabado-de-gloria/
LOCATION:Iglesia Vida Nueva\, 1621 South Irby Street\, Florence\, SC\, 29505\, United States
ATTACH;FMTTYPE=image/jpeg:https://vidanuevaflorence.org/wp-content/uploads/2026/03/sabado.jpg
END:VEVENT
BEGIN:VEVENT
DTSTART;TZID=UTC:20260405T110000
DTEND;TZID=UTC:20260405T130000
DTSTAMP:20260424T160009
CREATED:20260330T144104Z
LAST-MODIFIED:20260330T144104Z
UID:730-1775386800-1775394000@vidanuevaflorence.org
SUMMARY:Domingo de Resurección
DESCRIPTION:El domingo 5 de abril a las 11 am tendremos el servicio de adoración. ¡Te esperamos!
URL:https://vidanuevaflorence.org/eventos/domingo-de-resureccion/
LOCATION:Iglesia Vida Nueva\, 1621 South Irby Street\, Florence\, SC\, 29505\, United States
ATTACH;FMTTYPE=image/jpeg:https://vidanuevaflorence.org/wp-content/uploads/2026/03/domingo.jpg
END:VEVENT
BEGIN:VEVENT
DTSTART;TZID=UTC:20260410T190000
DTEND;TZID=UTC:20260411T070000
DTSTAMP:20260424T160009
CREATED:20260330T144357Z
LAST-MODIFIED:20260330T144357Z
UID:733-1775847600-1775890800@vidanuevaflorence.org
SUMMARY:Jóvenes Vida - Locked In
DESCRIPTION:Youth event! El viernes\, 10 de abril tendremos nuestro primer Locked In de 7 PM a 7 AM del sábado. ¡Va haber comida\, juegos\, worship y prédica! ¡Ven e invita a tu amigo!
URL:https://vidanuevaflorence.org/eventos/jovenes-vida-locked-in/
LOCATION:Iglesia Vida Nueva\, 1621 South Irby Street\, Florence\, SC\, 29505\, United States
ATTACH;FMTTYPE=image/png:https://vidanuevaflorence.org/wp-content/uploads/2026/03/Jovenes-Vida-LOCKED-IN.png
END:VEVENT
END:VCALENDAR