BEGIN:VCALENDAR
VERSION:2.0
PRODID:-//Iglesia Cristiana Vida Nueva - ECPv6.15.20//NONSGML v1.0//EN
CALSCALE:GREGORIAN
METHOD:PUBLISH
X-ORIGINAL-URL:https://vidanuevaflorence.org
X-WR-CALDESC:Events for Iglesia Cristiana Vida Nueva
REFRESH-INTERVAL;VALUE=DURATION:PT1H
X-Robots-Tag:noindex
X-PUBLISHED-TTL:PT1H
BEGIN:VTIMEZONE
TZID:UTC
BEGIN:STANDARD
TZOFFSETFROM:+0000
TZOFFSETTO:+0000
TZNAME:UTC
DTSTART:20250101T000000
END:STANDARD
END:VTIMEZONE
BEGIN:VEVENT
DTSTART;TZID=UTC:20260405T110000
DTEND;TZID=UTC:20260405T130000
DTSTAMP:20260423T162557
CREATED:20260330T144104Z
LAST-MODIFIED:20260330T144104Z
UID:730-1775386800-1775394000@vidanuevaflorence.org
SUMMARY:Domingo de Resurección
DESCRIPTION:El domingo 5 de abril a las 11 am tendremos el servicio de adoración. ¡Te esperamos!
URL:https://vidanuevaflorence.org/eventos/domingo-de-resureccion/
LOCATION:Iglesia Vida Nueva\, 1621 South Irby Street\, Florence\, SC\, 29505\, United States
ATTACH;FMTTYPE=image/jpeg:https://vidanuevaflorence.org/wp-content/uploads/2026/03/domingo.jpg
END:VEVENT
END:VCALENDAR