BEGIN:VCALENDAR
VERSION:2.0
PRODID:-//Iglesia Cristiana Vida Nueva - ECPv6.15.20//NONSGML v1.0//EN
CALSCALE:GREGORIAN
METHOD:PUBLISH
X-WR-CALNAME:Iglesia Cristiana Vida Nueva
X-ORIGINAL-URL:https://vidanuevaflorence.org
X-WR-CALDESC:Events for Iglesia Cristiana Vida Nueva
REFRESH-INTERVAL;VALUE=DURATION:PT1H
X-Robots-Tag:noindex
X-PUBLISHED-TTL:PT1H
BEGIN:VTIMEZONE
TZID:UTC
BEGIN:STANDARD
TZOFFSETFROM:+0000
TZOFFSETTO:+0000
TZNAME:UTC
DTSTART:20240101T000000
END:STANDARD
END:VTIMEZONE
BEGIN:VEVENT
DTSTART;TZID=UTC:20250804T060000
DTEND;TZID=UTC:20250822T070000
DTSTAMP:20260424T035647
CREATED:20250802T001745Z
LAST-MODIFIED:20250802T001745Z
UID:590-1754287200-1755846000@vidanuevaflorence.org
SUMMARY:21 Días de Ayuno & Oración
DESCRIPTION:¡Comienza con nosotros 21 DÍAS DE AYUNO Y ORACIÓN! \nIglesia Vida Nueva se une a tres congregaciones americanas para buscar juntos el rostro de Dios y clamar por nuestra ciudad\, nuestras familias y nuestras iglesias.\n\n\n Del lunes 4 al viernes 22 de agosto\n Cada mañana a las 6:00 AM\n\n\n Nos uniremos con:\n• Strong Tower\n• Newspring\n• Trinity EPC
URL:https://vidanuevaflorence.org/eventos/21-dias-de-ayuno-oracion/
LOCATION:SC
ATTACH;FMTTYPE=image/jpeg:https://vidanuevaflorence.org/wp-content/uploads/2025/08/526764052_753390257448448_7318739316904676477_n.jpg
END:VEVENT
END:VCALENDAR