BEGIN:VCALENDAR
VERSION:2.0
PRODID:-//Iglesia Cristiana Vida Nueva - ECPv6.15.20//NONSGML v1.0//EN
CALSCALE:GREGORIAN
METHOD:PUBLISH
X-WR-CALNAME:Iglesia Cristiana Vida Nueva
X-ORIGINAL-URL:https://vidanuevaflorence.org
X-WR-CALDESC:Events for Iglesia Cristiana Vida Nueva
REFRESH-INTERVAL;VALUE=DURATION:PT1H
X-Robots-Tag:noindex
X-PUBLISHED-TTL:PT1H
BEGIN:VTIMEZONE
TZID:UTC
BEGIN:STANDARD
TZOFFSETFROM:+0000
TZOFFSETTO:+0000
TZNAME:UTC
DTSTART:20240101T000000
END:STANDARD
END:VTIMEZONE
BEGIN:VEVENT
DTSTART;VALUE=DATE:20250105
DTEND;VALUE=DATE:20250126
DTSTAMP:20260424T154738
CREATED:20241229T190351Z
LAST-MODIFIED:20241229T203118Z
UID:368-1736035200-1737849599@vidanuevaflorence.org
SUMMARY:21 Días de Ayuno y Oración
DESCRIPTION:Iglesia Vida Nueva estará comenzando el año con una campaña de ayuno y oración de 21 días. La campaña será del 5 de enero hasta el 25 de enero. Dele click al enlace para ver los motivos de oración.
URL:https://vidanuevaflorence.org/eventos/21-dias-de-ayuno-y-oracion/
LOCATION:SC
ATTACH;FMTTYPE=image/jpeg:https://vidanuevaflorence.org/wp-content/uploads/2024/12/WhatsApp-Image-2024-12-17-at-8.45.45-PM-2.jpeg
END:VEVENT
END:VCALENDAR